BEGIN:VCALENDAR
VERSION:2.0
PRODID:-//Scouts de Domdidier - ECPv6.15.20//NONSGML v1.0//EN
CALSCALE:GREGORIAN
METHOD:PUBLISH
X-WR-CALNAME:Scouts de Domdidier
X-ORIGINAL-URL:https://scoutsdomdidier.ch
X-WR-CALDESC:Évènements pour Scouts de Domdidier
REFRESH-INTERVAL;VALUE=DURATION:PT1H
X-Robots-Tag:noindex
X-PUBLISHED-TTL:PT1H
BEGIN:VTIMEZONE
TZID:Europe/Zurich
BEGIN:DAYLIGHT
TZOFFSETFROM:+0100
TZOFFSETTO:+0200
TZNAME:CEST
DTSTART:20250330T010000
END:DAYLIGHT
BEGIN:STANDARD
TZOFFSETFROM:+0200
TZOFFSETTO:+0100
TZNAME:CET
DTSTART:20251026T010000
END:STANDARD
BEGIN:DAYLIGHT
TZOFFSETFROM:+0100
TZOFFSETTO:+0200
TZNAME:CEST
DTSTART:20260329T010000
END:DAYLIGHT
BEGIN:STANDARD
TZOFFSETFROM:+0200
TZOFFSETTO:+0100
TZNAME:CET
DTSTART:20261025T010000
END:STANDARD
BEGIN:DAYLIGHT
TZOFFSETFROM:+0100
TZOFFSETTO:+0200
TZNAME:CEST
DTSTART:20270328T010000
END:DAYLIGHT
BEGIN:STANDARD
TZOFFSETFROM:+0200
TZOFFSETTO:+0100
TZNAME:CET
DTSTART:20271031T010000
END:STANDARD
END:VTIMEZONE
BEGIN:VEVENT
DTSTART;VALUE=DATE:20260328
DTEND;VALUE=DATE:20260329
DTSTAMP:20260422T133757
CREATED:20250721T164613Z
LAST-MODIFIED:20250721T164613Z
UID:30446-1774656000-1774742399@scoutsdomdidier.ch
SUMMARY:Journée cantonale éclaireurs
DESCRIPTION:
URL:https://scoutsdomdidier.ch/event/journee-cantonale-eclaireurs/
CATEGORIES:Journée cantonale,Réunion éclais
END:VEVENT
BEGIN:VEVENT
DTSTART;TZID=Europe/Zurich:20260321T133000
DTEND;TZID=Europe/Zurich:20260321T163000
DTSTAMP:20260422T133757
CREATED:20250721T164531Z
LAST-MODIFIED:20250721T164531Z
UID:30444-1774099800-1774110600@scoutsdomdidier.ch
SUMMARY:Réunion louveteaux
DESCRIPTION:
URL:https://scoutsdomdidier.ch/event/reunion-louveteaux-10/
CATEGORIES:Réunion classique,Réunion lulou
END:VEVENT
BEGIN:VEVENT
DTSTART;TZID=Europe/Zurich:20260321T100000
DTEND;TZID=Europe/Zurich:20260321T120000
DTSTAMP:20260422T133757
CREATED:20250721T164436Z
LAST-MODIFIED:20250721T164436Z
UID:30439-1774087200-1774094400@scoutsdomdidier.ch
SUMMARY:Réunion castors
DESCRIPTION:
URL:https://scoutsdomdidier.ch/event/reunion-castors-10/
CATEGORIES:Réunion castor,Réunion classique
END:VEVENT
BEGIN:VEVENT
DTSTART;TZID=Europe/Zurich:20260321T090000
DTEND;TZID=Europe/Zurich:20260321T120000
DTSTAMP:20260422T133757
CREATED:20250721T164500Z
LAST-MODIFIED:20250721T164500Z
UID:30442-1774083600-1774094400@scoutsdomdidier.ch
SUMMARY:Réunion éclaireurs
DESCRIPTION:
URL:https://scoutsdomdidier.ch/event/reunion-eclaireurs-10/
CATEGORIES:Réunion classique,Réunion éclais
END:VEVENT
BEGIN:VEVENT
DTSTART;TZID=Europe/Zurich:20260307T133000
DTEND;TZID=Europe/Zurich:20260307T163000
DTSTAMP:20260422T133757
CREATED:20250721T164338Z
LAST-MODIFIED:20250721T164338Z
UID:30437-1772890200-1772901000@scoutsdomdidier.ch
SUMMARY:Réunion éclaireurs
DESCRIPTION:
URL:https://scoutsdomdidier.ch/event/reunion-eclaireurs-9/
CATEGORIES:Réunion classique,Réunion éclais
END:VEVENT
BEGIN:VEVENT
DTSTART;TZID=Europe/Zurich:20260307T133000
DTEND;TZID=Europe/Zurich:20260307T163000
DTSTAMP:20260422T133757
CREATED:20250721T164313Z
LAST-MODIFIED:20250721T164313Z
UID:30435-1772890200-1772901000@scoutsdomdidier.ch
SUMMARY:Réunion castors
DESCRIPTION:
URL:https://scoutsdomdidier.ch/event/reunion-castors-9/
CATEGORIES:Réunion castor,Réunion classique
END:VEVENT
BEGIN:VEVENT
DTSTART;TZID=Europe/Zurich:20260307T090000
DTEND;TZID=Europe/Zurich:20260307T120000
DTSTAMP:20260422T133757
CREATED:20250721T164243Z
LAST-MODIFIED:20250721T164243Z
UID:30433-1772874000-1772884800@scoutsdomdidier.ch
SUMMARY:Réunion louveteaux
DESCRIPTION:
URL:https://scoutsdomdidier.ch/event/reunion-louveteaux-9/
CATEGORIES:Réunion classique,Réunion lulou
END:VEVENT
BEGIN:VEVENT
DTSTART;VALUE=DATE:20260228
DTEND;VALUE=DATE:20260301
DTSTAMP:20260422T133757
CREATED:20250721T164145Z
LAST-MODIFIED:20250721T164145Z
UID:30431-1772236800-1772323199@scoutsdomdidier.ch
SUMMARY:Journée cantonale castors
DESCRIPTION:
URL:https://scoutsdomdidier.ch/event/journee-cantonale-castors/
CATEGORIES:Journée cantonale,Réunion castor
END:VEVENT
BEGIN:VEVENT
DTSTART;TZID=Europe/Zurich:20260221T090000
DTEND;TZID=Europe/Zurich:20260221T120000
DTSTAMP:20260422T133757
CREATED:20250721T164045Z
LAST-MODIFIED:20250721T164045Z
UID:30427-1771664400-1771675200@scoutsdomdidier.ch
SUMMARY:Réunion éclaireurs
DESCRIPTION:
URL:https://scoutsdomdidier.ch/event/reunion-eclaireurs-8/
CATEGORIES:Réunion classique,Réunion éclais
END:VEVENT
BEGIN:VEVENT
DTSTART;TZID=Europe/Zurich:20260207T133000
DTEND;TZID=Europe/Zurich:20260207T163000
DTSTAMP:20260422T133757
CREATED:20250721T163850Z
LAST-MODIFIED:20250721T163850Z
UID:30423-1770471000-1770481800@scoutsdomdidier.ch
SUMMARY:Réunion éclaireurs
DESCRIPTION:
URL:https://scoutsdomdidier.ch/event/reunion-eclaireurs-7/
CATEGORIES:Réunion classique,Réunion éclais
END:VEVENT
BEGIN:VEVENT
DTSTART;TZID=Europe/Zurich:20260207T133000
DTEND;TZID=Europe/Zurich:20260207T163000
DTSTAMP:20260422T133757
CREATED:20250721T163821Z
LAST-MODIFIED:20250721T163821Z
UID:30421-1770471000-1770481800@scoutsdomdidier.ch
SUMMARY:Réunion castors
DESCRIPTION:
URL:https://scoutsdomdidier.ch/event/reunion-castors-7/
CATEGORIES:Réunion castor,Réunion classique
END:VEVENT
BEGIN:VEVENT
DTSTART;TZID=Europe/Zurich:20260207T090000
DTEND;TZID=Europe/Zurich:20260207T120000
DTSTAMP:20260422T133757
CREATED:20250721T163753Z
LAST-MODIFIED:20250721T163753Z
UID:30419-1770454800-1770465600@scoutsdomdidier.ch
SUMMARY:Réunion louveteaux
DESCRIPTION:
URL:https://scoutsdomdidier.ch/event/reunion-louveteaux-7/
CATEGORIES:Réunion classique,Réunion lulou
END:VEVENT
BEGIN:VEVENT
DTSTART;TZID=Europe/Zurich:20260124T133000
DTEND;TZID=Europe/Zurich:20260124T163000
DTSTAMP:20260422T133757
CREATED:20250721T163725Z
LAST-MODIFIED:20250721T163725Z
UID:30417-1769261400-1769272200@scoutsdomdidier.ch
SUMMARY:Réunion louveteaux
DESCRIPTION:
URL:https://scoutsdomdidier.ch/event/reunion-louveteaux-6/
CATEGORIES:Réunion classique,Réunion lulou
END:VEVENT
BEGIN:VEVENT
DTSTART;TZID=Europe/Zurich:20260124T100000
DTEND;TZID=Europe/Zurich:20260124T120000
DTSTAMP:20260422T133757
CREATED:20250721T163639Z
LAST-MODIFIED:20250721T163639Z
UID:30413-1769248800-1769256000@scoutsdomdidier.ch
SUMMARY:Réunion castors
DESCRIPTION:
URL:https://scoutsdomdidier.ch/event/reunion-castors-6/
CATEGORIES:Réunion castor,Réunion classique
END:VEVENT
BEGIN:VEVENT
DTSTART;TZID=Europe/Zurich:20260124T090000
DTEND;TZID=Europe/Zurich:20260124T120000
DTSTAMP:20260422T133757
CREATED:20250721T163659Z
LAST-MODIFIED:20250721T163659Z
UID:30415-1769245200-1769256000@scoutsdomdidier.ch
SUMMARY:Réunion éclaireurs
DESCRIPTION:
URL:https://scoutsdomdidier.ch/event/reunion-eclaireurs-6/
CATEGORIES:Réunion classique,Réunion éclais
END:VEVENT
END:VCALENDAR